BEGIN:VCALENDAR
VERSION:2.0
PRODID:-//Area Agency on Aging of Southwest Arkansas, Inc. - ECPv6.15.11//NONSGML v1.0//EN
CALSCALE:GREGORIAN
METHOD:PUBLISH
X-ORIGINAL-URL:https://agewithdignity.com
X-WR-CALDESC:Events for Area Agency on Aging of Southwest Arkansas, Inc.
REFRESH-INTERVAL;VALUE=DURATION:PT1H
X-Robots-Tag:noindex
X-PUBLISHED-TTL:PT1H
BEGIN:VTIMEZONE
TZID:UTC
BEGIN:STANDARD
TZOFFSETFROM:+0000
TZOFFSETTO:+0000
TZNAME:UTC
DTSTART:20240101T000000
END:STANDARD
END:VTIMEZONE
BEGIN:VEVENT
DTSTART;TZID=UTC:20250226T120000
DTEND;TZID=UTC:20250226T130000
DTSTAMP:20260423T214952
CREATED:20250121T213618Z
LAST-MODIFIED:20250121T213618Z
UID:2576-1740571200-1740574800@agewithdignity.com
SUMMARY:The Greater Columbia County Area Alzheimer's Disease Support Group
DESCRIPTION:The Greater Columbia County Area Alzheimer’s Disease Support Group meets the 4th Wednesday of each month\, 12:00pm Noon at the Lelia Enrichment Complex 600 Lelia St.\, Magnolia.
URL:https://agewithdignity.com/event/the-greater-columbia-county-area-alzheimers-disease-support-group-7/
LOCATION:Lelia Enrichment Complex\, 600 Lelia\, Magnolia
END:VEVENT
BEGIN:VEVENT
DTSTART;TZID=UTC:20250225T130000
DTEND;TZID=UTC:20250225T130000
DTSTAMP:20260423T214952
CREATED:20250129T203659Z
LAST-MODIFIED:20250129T203659Z
UID:2606-1740488400-1740488400@agewithdignity.com
SUMMARY:Seated Tai Chi for Arthritis for Fall Prevention - Miller County
DESCRIPTION:Seated Tai Chi for Arthritis for Fall Prevention (STCAFP) is an adaptation of the standing form where participants are seated and learn the upper body movements first. Once they are comfortable with the upper body movements\, lower body movements are added by either pressing on the balls of the feet or tensing their gluts while performing the upper body movements.
URL:https://agewithdignity.com/event/seated-tai-chi-for-arthritis-for-fall-prevention-miller-county-5/
LOCATION:Texarkana Arkansas Recreation Center\, 1 Legion St\, Texarkana\, Arkansa\, 71854
END:VEVENT
BEGIN:VEVENT
DTSTART;TZID=UTC:20250225T103000
DTEND;TZID=UTC:20250225T103000
DTSTAMP:20260423T214952
CREATED:20250129T203214Z
LAST-MODIFIED:20250129T203214Z
UID:2602-1740479400-1740479400@agewithdignity.com
SUMMARY:Tai Chi for Arthritis for Fall Prevention - Little River County
DESCRIPTION:Tai Chi for Arthritis for Fall Prevention helps to improve muscular strength\, flexibility\, balance\, and stamina. Tai Chi is often described as “moving meditation” because it uses a series of flowing\, gentle movements performed with balance\, calmness and awareness to reverse the effects of stress and promote relaxation response.
URL:https://agewithdignity.com/event/tai-chi-for-arthritis-for-fall-prevention-little-river-county-25/
LOCATION:University of Arkansas – Cossatot Community College Ashdown Campus\, 1411 N Constitution Ave\, Ashdown\, Arkansas\, 71822
END:VEVENT
BEGIN:VEVENT
DTSTART;TZID=UTC:20250225T100000
DTEND;TZID=UTC:20250225T100000
DTSTAMP:20260423T214952
CREATED:20250121T204144Z
LAST-MODIFIED:20250121T204144Z
UID:2549-1740477600-1740477600@agewithdignity.com
SUMMARY:PEPPI Exercise Classes - Nevada County
DESCRIPTION:Peer Exercise Program Promotes Independence (PEPPI) is a physical activity program using exercise bands to provide resistance and is designed for older adults. Its purpose is to increase physical fitness and independence. Each class consists of mild warm-up stretches and range of motion\, a little cardio\, and resistance training using the exercise bands.
URL:https://agewithdignity.com/event/peppi-exercise-classes-nevada-county-10/
LOCATION:Hamilton Blakely Senior Center\, 419 E. Main\, Prescott\, Arkansas\, 71857
END:VEVENT
BEGIN:VEVENT
DTSTART;TZID=UTC:20250224T133000
DTEND;TZID=UTC:20250224T133000
DTSTAMP:20260423T214952
CREATED:20250121T212141Z
LAST-MODIFIED:20250121T212141Z
UID:2570-1740403800-1740403800@agewithdignity.com
SUMMARY:Tai Chi for Arthritis for Fall Prevention / Ageless Grace - Columbia County
DESCRIPTION:Tai Chi for Arthritis for Fall Prevention helps to improve muscular strength\, flexibility\, balance\, and stamina. Tai Chi is often described as “moving meditation” because it uses a series of flowing\, gentle movements performed with balance\, calmness and awareness to reverse the effects of stress and promote relaxation response. \nAgeless Grace is a “brain health program.” It works your brain while working your body. The main purpose is to get the brain to Respond-React-Recover. Also\, it provides amazing results for all ages- yet it’s simple to learn\, playful\, easy to do – and FUN!
URL:https://agewithdignity.com/event/tai-chi-for-arthritis-for-fall-prevention-ageless-grace-columbia-county-4/
LOCATION:Lelia Enrichment Complex\, 600 Lelia\, Magnolia
END:VEVENT
BEGIN:VEVENT
DTSTART;TZID=UTC:20250224T090000
DTEND;TZID=UTC:20250224T090000
DTSTAMP:20260423T214952
CREATED:20250121T203449Z
LAST-MODIFIED:20250121T203449Z
UID:2545-1740387600-1740387600@agewithdignity.com
SUMMARY:Advanced Tai Chi via Zoom
DESCRIPTION:One can absorb the movements by merely watching others do Tai Chi\, so if you tune in to a Zoom class\, you can leave your video off and just watch and follow along as you feel comfortable but know this: the benefits come from doing the movements\, so you will want to follow along as you can.
URL:https://agewithdignity.com/event/advanced-tai-chi-via-zoom-25/
END:VEVENT
BEGIN:VEVENT
DTSTART;TZID=UTC:20250221T100000
DTEND;TZID=UTC:20250221T100000
DTSTAMP:20260423T214952
CREATED:20250129T200741Z
LAST-MODIFIED:20250129T205654Z
UID:2594-1740132000-1740132000@agewithdignity.com
SUMMARY:National Memory Screening Program -Lelia Enrichment Center - Columbia County
DESCRIPTION:National Memory Screening Program is an initiative of: Alzheimer’s Foundation of American. A memory screening is a simple and safe “Healthy Brain Check-Up that tests memory and other thinking skills. **Each memory screening takes approximately 10 minutes and while the results are not a diagnosis\, it can suggest if someone should see a physician for a full evaluation. ** Date: The last Friday of Each Month by Appointments only-call by\, the Wednesday before. Time: 10am – 12pm. Phone (870)626-3089 or (870)626-3093.
URL:https://agewithdignity.com/event/national-memory-screening-program-lelia-enrichment-center-columbia-county-3/
LOCATION:Lelia Enrichment Complex\, 600 Lelia\, Magnolia
END:VEVENT
BEGIN:VEVENT
DTSTART;TZID=UTC:20250220T140000
DTEND;TZID=UTC:20250220T150000
DTSTAMP:20260423T214952
CREATED:20250121T213151Z
LAST-MODIFIED:20250121T213151Z
UID:2574-1740060000-1740063600@agewithdignity.com
SUMMARY:The Eldorado Parkinson's and Care Partner Support Group
DESCRIPTION:The El Dorado Parkinson’s and Care partner Support Group meets from 2pm to 3pm on the 3rd Thursday of each month in the executive conference room (2nd floor) at Simmon’s Bank.
URL:https://agewithdignity.com/event/the-eldorado-parkinsons-and-care-partner-support-group/
LOCATION:Simmon’s Bank\, 100 West Grove Street\, El Dorado\, Arkansas\, 71730
END:VEVENT
BEGIN:VEVENT
DTSTART;TZID=UTC:20250220T130000
DTEND;TZID=UTC:20250220T140000
DTSTAMP:20260423T214952
CREATED:20250121T212504Z
LAST-MODIFIED:20250121T212832Z
UID:2572-1740056400-1740060000@agewithdignity.com
SUMMARY:The Eldorado Area Alzheimer's Support Group at Simmons Bank
DESCRIPTION:The El Dorado Area Alzheimer’s Support Group at Simmons Bank meets @ 1pm on the 3rd Thursday of each month in the executive conference room (2nd floor) at Simmon’s Bank.
URL:https://agewithdignity.com/event/the-eldorado-area-alzheimers-support-group-at-simmons-bank/
LOCATION:Simmon’s Bank\, 100 West Grove Street\, El Dorado\, Arkansas\, 71730
END:VEVENT
BEGIN:VEVENT
DTSTART;TZID=UTC:20250218T130000
DTEND;TZID=UTC:20250218T130000
DTSTAMP:20260423T214952
CREATED:20250129T203419Z
LAST-MODIFIED:20250129T203419Z
UID:2604-1739883600-1739883600@agewithdignity.com
SUMMARY:Seated Tai Chi for Arthritis for Fall Prevention - Miller County
DESCRIPTION:Seated Tai Chi for Arthritis for Fall Prevention (STCAFP) is an adaptation of the standing form where participants are seated and learn the upper body movements first. Once they are comfortable with the upper body movements\, lower body movements are added by either pressing on the balls of the feet or tensing their gluts while performing the upper body movements.
URL:https://agewithdignity.com/event/seated-tai-chi-for-arthritis-for-fall-prevention-miller-county-4/
LOCATION:Texarkana Arkansas Recreation Center\, 1 Legion St\, Texarkana\, Arkansa\, 71854
END:VEVENT
BEGIN:VEVENT
DTSTART;TZID=UTC:20250218T103000
DTEND;TZID=UTC:20250218T103000
DTSTAMP:20260423T214952
CREATED:20250129T203036Z
LAST-MODIFIED:20250129T203036Z
UID:2600-1739874600-1739874600@agewithdignity.com
SUMMARY:Tai Chi for Arthritis for Fall Prevention - Little River County
DESCRIPTION:Tai Chi for Arthritis for Fall Prevention helps to improve muscular strength\, flexibility\, balance\, and stamina. Tai Chi is often described as “moving meditation” because it uses a series of flowing\, gentle movements performed with balance\, calmness and awareness to reverse the effects of stress and promote relaxation response.
URL:https://agewithdignity.com/event/tai-chi-for-arthritis-for-fall-prevention-little-river-county-24/
LOCATION:University of Arkansas – Cossatot Community College Ashdown Campus\, 1411 N Constitution Ave\, Ashdown\, Arkansas\, 71822
END:VEVENT
BEGIN:VEVENT
DTSTART;TZID=UTC:20250214T100000
DTEND;TZID=UTC:20250214T100000
DTSTAMP:20260423T214952
CREATED:20250129T200415Z
LAST-MODIFIED:20250129T205738Z
UID:2592-1739527200-1739527200@agewithdignity.com
SUMMARY:National Memory Screening Program - Lelia Enrichment Center - Columbia County
DESCRIPTION:National Memory Screening Program is an initiative of: Alzheimer’s Foundation of American. A memory screening is a simple and safe “Healthy Brain Check-Up that tests memory and other thinking skills. **Each memory screening takes approximately 10 minutes and while the results are not a diagnosis\, it can suggest if someone should see a physician for a full evaluation. ** Date: The last Friday of Each Month by Appointments only-call by\, the Wednesday before. Time: 10am – 12pm. Phone (870)626-3089 or (870)626-3093.
URL:https://agewithdignity.com/event/national-memory-screening-program-lelia-enrichment-center-columbia-county-2/
LOCATION:Lelia Enrichment Complex\, 600 Lelia\, Magnolia
END:VEVENT
BEGIN:VEVENT
DTSTART;TZID=UTC:20250212T150000
DTEND;TZID=UTC:20250212T150000
DTSTAMP:20260423T214952
CREATED:20250121T211430Z
LAST-MODIFIED:20250121T211430Z
UID:2566-1739372400-1739372400@agewithdignity.com
SUMMARY:The Miller County Parkinson's & Care Partner Support Group @Encompass Health Rehabilitation Hospital of Texarkana
DESCRIPTION:The Miller County Parkinson’s & Care Partner Support Group @ Encompass Health Rehabilitation Hospital of Texarkana meets at 2pm to 3pm on the 2nd Wednesday of each month at the Encompass Rehabilitation Hospital of Texarkana.
URL:https://agewithdignity.com/event/the-miller-county-parkinsons-care-partner-support-group-encompass-health-rehabilitation-hospital-of-texarkana-9/
LOCATION:Encompass Health Rehabilitation Hospital of Texarkana\, 515 West 12th St\, Texarkana\, 75501\, United States
END:VEVENT
BEGIN:VEVENT
DTSTART;TZID=UTC:20250212T100000
DTEND;TZID=UTC:20250212T100000
DTSTAMP:20260423T214952
CREATED:20250121T204425Z
LAST-MODIFIED:20250121T204425Z
UID:2553-1739354400-1739354400@agewithdignity.com
SUMMARY:PEPPI Exercise Classes - Howard County
DESCRIPTION:Peer Exercise Program Promotes Independence (PEPPI) is a physical activity program using exercise bands to provide resistance and is designed for older adults. Its purpose is to increase physical fitness and independence. Each class consists of mild warm-up stretches and range of motion\, a little cardio\, and resistance training using the exercise bands.
URL:https://agewithdignity.com/event/peppi-exercise-classes-howard-county-20/
LOCATION:Nashville Senior Center\, 206 E. Howard\, Nashville\, Arkansas\, 71852
END:VEVENT
BEGIN:VEVENT
DTSTART;TZID=UTC:20250211T140000
DTEND;TZID=UTC:20250211T140000
DTSTAMP:20260423T214952
CREATED:20250121T210355Z
LAST-MODIFIED:20250121T210355Z
UID:2563-1739282400-1739282400@agewithdignity.com
SUMMARY:The Little River Parkinson's Disease & Care Partner Support Group @Little River Memorial Hospital
DESCRIPTION:The Little River Parkinson’s Disease & Care Partner Support Group @ Little Memorial Hospital meets at 2pm to 3pm on the 2nd Tuesday of each month in the Board Room of the Little Memorial Hospital.
URL:https://agewithdignity.com/event/the-little-river-parkinsons-disease-care-partner-support-group-little-river-memorial-hospital-4/
LOCATION:Little River Memorial Hospital\, 451 W Locke St\, Ashdown\, AR\, 71822\, United States
END:VEVENT
BEGIN:VEVENT
DTSTART;TZID=UTC:20250211T103000
DTEND;TZID=UTC:20250211T103000
DTSTAMP:20260423T214952
CREATED:20250129T202849Z
LAST-MODIFIED:20250129T202849Z
UID:2598-1739269800-1739269800@agewithdignity.com
SUMMARY:Tai Chi for Arthritis for Fall Prevention - Little River County
DESCRIPTION:Tai Chi for Arthritis for Fall Prevention helps to improve muscular strength\, flexibility\, balance\, and stamina. Tai Chi is often described as “moving meditation” because it uses a series of flowing\, gentle movements performed with balance\, calmness and awareness to reverse the effects of stress and promote relaxation response.
URL:https://agewithdignity.com/event/tai-chi-for-arthritis-for-fall-prevention-little-river-county-23/
LOCATION:University of Arkansas – Cossatot Community College Ashdown Campus\, 1411 N Constitution Ave\, Ashdown\, Arkansas\, 71822
END:VEVENT
BEGIN:VEVENT
DTSTART;TZID=UTC:20250210T133000
DTEND;TZID=UTC:20250210T133000
DTSTAMP:20260423T214952
CREATED:20250121T203317Z
LAST-MODIFIED:20250121T203317Z
UID:2543-1739194200-1739194200@agewithdignity.com
SUMMARY:Tai Chi for Arthritis for Fall Prevention/Ageless Grace
DESCRIPTION:Seated Tai Chi for Arthritis for Fall Prevention (STCAFP) is an adaptation of the standing form where participants are seated and learn the upper body movements first. Once they are comfortable with the upper body movements\, lower body movements are added by either pressing on the balls of the feet or tensing their gluts while performing the upper body movements. \nAgeless Grace® is a “brain health program.” It works your brain while working your body. The main purpose is to get the brain to Respond-React-and Recover. Also\, it provides amazing results for all ages – yet it’s simple to learn\, playful\, easy to do – and FUN! \n 
URL:https://agewithdignity.com/event/tai-chi-for-arthritis-for-fall-prevention-ageless-grace-13/
LOCATION:Lelia Enrichment Complex\, 600 Lelia\, Magnolia
END:VEVENT
BEGIN:VEVENT
DTSTART;TZID=UTC:20250210T090000
DTEND;TZID=UTC:20250210T090000
DTSTAMP:20260423T214952
CREATED:20250121T203116Z
LAST-MODIFIED:20250121T203116Z
UID:2541-1739178000-1739178000@agewithdignity.com
SUMMARY:Advanced Tai Chi via Zoom
DESCRIPTION:One can absorb the movements by merely watching others do Tai Chi\, so if you tune in to a Zoom class\, you can leave your video off and just watch and follow along as you feel comfortable but know this: the benefits come from doing the movements\, so you will want to follow along as you can.
URL:https://agewithdignity.com/event/advanced-tai-chi-via-zoom-24/
END:VEVENT
BEGIN:VEVENT
DTSTART;TZID=UTC:20250207T100000
DTEND;TZID=UTC:20250207T100000
DTSTAMP:20260423T214952
CREATED:20250129T200230Z
LAST-MODIFIED:20250129T205937Z
UID:2590-1738922400-1738922400@agewithdignity.com
SUMMARY:National Memory Screening Program - Lelia Enrichment Center - Columbia County
DESCRIPTION:National Memory Screening Program is an initiative of: Alzheimer’s Foundation of American. A memory screening is a simple and safe “Healthy Brain Check-Up that tests memory and other thinking skills. **Each memory screening takes approximately 10 minutes and while the results are not a diagnosis\, it can suggest if someone should see a physician for a full evaluation. ** Date: The last Friday of Each Month by Appointments only-call by\, the Wednesday before. Time: 10am – 12pm. Phone (870)626-3089 or (870)626-3093.
URL:https://agewithdignity.com/event/national-memory-screening-program-lelia-enrichment-center-columbia-county/
LOCATION:Lelia Enrichment Complex\, 600 Lelia\, Magnolia
END:VEVENT
BEGIN:VEVENT
DTSTART;TZID=UTC:20250206T100000
DTEND;TZID=UTC:20250206T100000
DTSTAMP:20260423T214952
CREATED:20250121T204604Z
LAST-MODIFIED:20250121T204604Z
UID:2555-1738836000-1738836000@agewithdignity.com
SUMMARY:PEPPI Exercise Classes - Columbia County
DESCRIPTION:Peer Exercise Program Promotes Independence (PEPPI) is a physical activity program using exercise bands to provide resistance and is designed for older adults. Its purpose is to increase physical fitness and independence. Each class consists of mild warm-up stretches and range of motion\, a little cardio\, and resistance training using the exercise bands.
URL:https://agewithdignity.com/event/peppi-exercise-classes-columbia-county-19/
LOCATION:Lelia Enrichment Complex\, 600 Lelia\, Magnolia
END:VEVENT
BEGIN:VEVENT
DTSTART;TZID=UTC:20250205T130000
DTEND;TZID=UTC:20250205T140000
DTSTAMP:20260423T214952
CREATED:20250121T205713Z
LAST-MODIFIED:20250121T205713Z
UID:2559-1738760400-1738764000@agewithdignity.com
SUMMARY:The Howard County Area Parkinson's Disease & Care Partner Support Group
DESCRIPTION:The Howard County Area Parkinson’s Disease & Care Partner Support Group meets from 1pm to 2pm on the 1st Wednesday of each month at The Retirement Village\, 127 N. Lewis St.\, Mineral Springs\, AR.
URL:https://agewithdignity.com/event/the-howard-county-area-parkinsons-disease-care-partner-support-group-2/
LOCATION:The Retirement Village – Howard County\, 127 N. Lewis St.\, Mineral Springs\, AR\, 71851\, United States
END:VEVENT
BEGIN:VEVENT
DTSTART;TZID=UTC:20250205T100000
DTEND;TZID=UTC:20250205T100000
DTSTAMP:20260423T214952
CREATED:20250121T204307Z
LAST-MODIFIED:20250121T204307Z
UID:2551-1738749600-1738749600@agewithdignity.com
SUMMARY:PEPPI Exercise Classes - Howard County
DESCRIPTION:Peer Exercise Program Promotes Independence (PEPPI) is a physical activity program using exercise bands to provide resistance and is designed for older adults. Its purpose is to increase physical fitness and independence. Each class consists of mild warm-up stretches and range of motion\, a little cardio\, and resistance training using the exercise bands.
URL:https://agewithdignity.com/event/peppi-exercise-classes-howard-county-19/
LOCATION:Nashville Senior Center\, 206 E. Howard\, Nashville\, Arkansas\, 71852
END:VEVENT
BEGIN:VEVENT
DTSTART;TZID=UTC:20250204T100000
DTEND;TZID=UTC:20250204T100000
DTSTAMP:20260423T214952
CREATED:20250121T203803Z
LAST-MODIFIED:20250121T203803Z
UID:2547-1738663200-1738663200@agewithdignity.com
SUMMARY:PEPPI Exercise Classes - Nevada County
DESCRIPTION:Peer Exercise Program Promotes Independence (PEPPI) is a physical activity program using exercise bands to provide resistance and is designed for older adults. Its purpose is to increase physical fitness and independence. Each class consists of mild warm-up stretches and range of motion\, a little cardio\, and resistance training using the exercise bands.
URL:https://agewithdignity.com/event/peppi-exercise-classes-nevada-county-9/
LOCATION:Hamilton Blakely Senior Center\, 419 E. Main\, Prescott\, Arkansas\, 71857
END:VEVENT
BEGIN:VEVENT
DTSTART;TZID=UTC:20250203T133000
DTEND;TZID=UTC:20250203T133000
DTSTAMP:20260423T214952
CREATED:20250121T211723Z
LAST-MODIFIED:20250121T211723Z
UID:2568-1738589400-1738589400@agewithdignity.com
SUMMARY:Seated Tai Chi for Arthritis for Fall Prevention /Ageless Grace
DESCRIPTION:Seated Tai Chi for Arthritis for Fall Prevention (STCAFP) is an adaptation of the standing form where participants are seated and learn the upper body movements first. Once they are comfortable with the upper body movements\, lower body movements are added by either pressing on the balls of the feet or tensing their gluts while performing the upper body movements. \nAgeless Grace® is a “brain health program.” It works your brain while working your body. The main purpose is to get the brain to Respond-React-and Recover. Also\, it provides amazing results for all ages – yet it’s simple to learn\, playful\, easy to do – and FUN!
URL:https://agewithdignity.com/event/seated-tai-chi-for-arthritis-for-fall-prevention-ageless-grace-3/
LOCATION:Lelia Enrichment Complex\, 600 Lelia\, Magnolia
END:VEVENT
BEGIN:VEVENT
DTSTART;TZID=UTC:20250203T090000
DTEND;TZID=UTC:20250203T090000
DTSTAMP:20260423T214952
CREATED:20250121T202635Z
LAST-MODIFIED:20250121T202635Z
UID:2537-1738573200-1738573200@agewithdignity.com
SUMMARY:Advanced Tai Chi via Zoom
DESCRIPTION:One can absorb the movements by merely watching others do Tai Chi\, so if you tune in to a Zoom class\, you can leave your video off and just watch and follow along as you feel comfortable but know this: the benefits come from doing the movements\, so you will want to follow along as you can.
URL:https://agewithdignity.com/event/advanced-tai-chi-via-zoom-23/
END:VEVENT
BEGIN:VEVENT
DTSTART;TZID=UTC:20250131T100000
DTEND;TZID=UTC:20250131T100000
DTSTAMP:20260423T214952
CREATED:20250129T194911Z
LAST-MODIFIED:20250129T200003Z
UID:2587-1738317600-1738317600@agewithdignity.com
SUMMARY:National Memory Screening Program - Lelia Enrichment Complex - Columbia County
DESCRIPTION:National Memory Screening Program is an initiative of: Alzheimer’s Foundation of American. A memory screening is a simple and safe “Healthy Brain Check-Up that tests memory and other thinking skills. **Each memory screening takes approximately 10 minutes and while the results are not a diagnosis\, it can suggest if someone should see a physician for a full evaluation. ** Date: The last Friday of Each Month by Appointments only-call by\, the Wednesday before. Time: 10am – 2pm. Phone (870)626-3089 or (870)626-3093.
URL:https://agewithdignity.com/event/national-memory-screening-program-lelia-enrichment-complex/
LOCATION:Lelia Enrichment Complex\, 600 Lelia\, Magnolia
END:VEVENT
BEGIN:VEVENT
DTSTART;TZID=UTC:20250128T130000
DTEND;TZID=UTC:20250128T130000
DTSTAMP:20260423T214952
CREATED:20250129T172213Z
LAST-MODIFIED:20250129T172213Z
UID:2581-1738069200-1738069200@agewithdignity.com
SUMMARY:Tai Chi for Arthritis for Fall Prevention - Miller County
DESCRIPTION:Tai Chi for Arthritis for Fall Prevention helps to improve muscular strength\, flexibility\, balance\, and stamina. Tai Chi is often described as “moving meditation” because it uses a series of flowing\, gentle movements performed with balance\, calmness and awareness to reverse the effects of stress and promote relaxation response.
URL:https://agewithdignity.com/event/tai-chi-for-arthritis-for-fall-prevention-miller-county-5/
LOCATION:Texarkana Arkansas Recreation Center\, 1 Legion St\, Texarkana\, Arkansa\, 71854
END:VEVENT
BEGIN:VEVENT
DTSTART;TZID=UTC:20250128T130000
DTEND;TZID=UTC:20250128T130000
DTSTAMP:20260423T214952
CREATED:20241216T184704Z
LAST-MODIFIED:20241216T184831Z
UID:2509-1738069200-1738069200@agewithdignity.com
SUMMARY:Seated Tai Chi for Arthritis for Fall Prevention - Miller County
DESCRIPTION:Seated Tai Chi for Arthritis for Fall Prevention (STCAFP) is an adaptation of the standing form where participants are seated and learn the upper body movements first. Once they are comfortable with the upper body movements\, lower body movements are added by either pressing on the balls of the feet or tensing their gluts while performing the upper body movements.
URL:https://agewithdignity.com/event/seated-tai-chi-for-arthritis-for-fall-prevention-miller-county/
LOCATION:Texarkana Arkansas Recreation Center\, 1 Legion St\, Texarkana\, Arkansa\, 71854
END:VEVENT
BEGIN:VEVENT
DTSTART;TZID=UTC:20250128T103000
DTEND;TZID=UTC:20250128T103000
DTSTAMP:20260423T214952
CREATED:20250129T172035Z
LAST-MODIFIED:20250129T172035Z
UID:2579-1738060200-1738060200@agewithdignity.com
SUMMARY:Tai Chi for Arthritis for Fall Prevention - Little River County
DESCRIPTION:Tai Chi for Arthritis for Fall Prevention helps to improve muscular strength\, flexibility\, balance\, and stamina. Tai Chi is often described as “moving meditation” because it uses a series of flowing\, gentle movements performed with balance\, calmness and awareness to reverse the effects of stress and promote relaxation response.
URL:https://agewithdignity.com/event/tai-chi-for-arthritis-for-fall-prevention-little-river-county-22/
LOCATION:University of Arkansas – Cossatot Community College Ashdown Campus\, 1411 N Constitution Ave\, Ashdown\, Arkansas\, 71822
END:VEVENT
BEGIN:VEVENT
DTSTART;TZID=UTC:20250127T133000
DTEND;TZID=UTC:20250127T133000
DTSTAMP:20260423T214952
CREATED:20250129T174012Z
LAST-MODIFIED:20250129T174012Z
UID:2585-1737984600-1737984600@agewithdignity.com
SUMMARY:Seated Tai Chi for Arthritis for Fall Prevention - Columbia County
DESCRIPTION:Seated Tai Chi for Arthritis for Fall Prevention (STCAFP) is an adaptation of the standing form where participants are seated and learn the upper body movements first. Once they are comfortable with the upper body movements\, lower body movements are added by either pressing on the balls of the feet or tensing their gluts while performing the upper body movements.
URL:https://agewithdignity.com/event/seated-tai-chi-for-arthritis-for-fall-prevention-columbia-county/
LOCATION:Lelia Enrichment Complex\, 600 Lelia\, Magnolia
END:VEVENT
END:VCALENDAR